BEGIN:VCALENDAR
VERSION:2.0
PRODID:-//HPS - ECPv6.15.20//NONSGML v1.0//EN
CALSCALE:GREGORIAN
METHOD:PUBLISH
X-WR-CALNAME:HPS
X-ORIGINAL-URL:https://www.hps-heerbrugg.ch
X-WR-CALDESC:Veranstaltungen für HPS
REFRESH-INTERVAL;VALUE=DURATION:PT1H
X-Robots-Tag:noindex
X-PUBLISHED-TTL:PT1H
BEGIN:VTIMEZONE
TZID:Europe/Zurich
BEGIN:DAYLIGHT
TZOFFSETFROM:+0100
TZOFFSETTO:+0200
TZNAME:CEST
DTSTART:20210328T010000
END:DAYLIGHT
BEGIN:STANDARD
TZOFFSETFROM:+0200
TZOFFSETTO:+0100
TZNAME:CET
DTSTART:20211031T010000
END:STANDARD
BEGIN:DAYLIGHT
TZOFFSETFROM:+0100
TZOFFSETTO:+0200
TZNAME:CEST
DTSTART:20220327T010000
END:DAYLIGHT
BEGIN:STANDARD
TZOFFSETFROM:+0200
TZOFFSETTO:+0100
TZNAME:CET
DTSTART:20221030T010000
END:STANDARD
BEGIN:DAYLIGHT
TZOFFSETFROM:+0100
TZOFFSETTO:+0200
TZNAME:CEST
DTSTART:20230326T010000
END:DAYLIGHT
BEGIN:STANDARD
TZOFFSETFROM:+0200
TZOFFSETTO:+0100
TZNAME:CET
DTSTART:20231029T010000
END:STANDARD
END:VTIMEZONE
BEGIN:VEVENT
DTSTART;VALUE=DATE:20221101
DTEND;VALUE=DATE:20221102
DTSTAMP:20260424T093115
CREATED:20211216T100600Z
LAST-MODIFIED:20211216T100600Z
UID:385-1667260800-1667347199@www.hps-heerbrugg.ch
SUMMARY:Allerheiligen 2022
DESCRIPTION:Allerheiligen Di 01. Nov. 2022 
URL:https://www.hps-heerbrugg.ch/agenda/allerheiligen-2022/
CATEGORIES:Agenda,Jahres- und Ferienplan
ATTACH;FMTTYPE=image/jpeg:https://www.hps-heerbrugg.ch/wp-content/uploads/2021/12/HPS_herbst_98396.jpg
END:VEVENT
BEGIN:VEVENT
DTSTART;TZID=Europe/Zurich:20221123T160000
DTEND;TZID=Europe/Zurich:20221123T200000
DTSTAMP:20260424T093115
CREATED:20221025T093927Z
LAST-MODIFIED:20221104T073834Z
UID:510-1669219200-1669233600@www.hps-heerbrugg.ch
SUMMARY:Weihnachtsmarkt
DESCRIPTION:
URL:https://www.hps-heerbrugg.ch/agenda/__trashed-2/
END:VEVENT
END:VCALENDAR