BEGIN:VCALENDAR
VERSION:2.0
PRODID:-//HPS - ECPv6.15.20//NONSGML v1.0//EN
CALSCALE:GREGORIAN
METHOD:PUBLISH
X-WR-CALNAME:HPS
X-ORIGINAL-URL:https://www.hps-heerbrugg.ch
X-WR-CALDESC:Veranstaltungen für HPS
REFRESH-INTERVAL;VALUE=DURATION:PT1H
X-Robots-Tag:noindex
X-PUBLISHED-TTL:PT1H
BEGIN:VTIMEZONE
TZID:Europe/Zurich
BEGIN:DAYLIGHT
TZOFFSETFROM:+0100
TZOFFSETTO:+0200
TZNAME:CEST
DTSTART:20220327T010000
END:DAYLIGHT
BEGIN:STANDARD
TZOFFSETFROM:+0200
TZOFFSETTO:+0100
TZNAME:CET
DTSTART:20221030T010000
END:STANDARD
BEGIN:DAYLIGHT
TZOFFSETFROM:+0100
TZOFFSETTO:+0200
TZNAME:CEST
DTSTART:20230326T010000
END:DAYLIGHT
BEGIN:STANDARD
TZOFFSETFROM:+0200
TZOFFSETTO:+0100
TZNAME:CET
DTSTART:20231029T010000
END:STANDARD
BEGIN:DAYLIGHT
TZOFFSETFROM:+0100
TZOFFSETTO:+0200
TZNAME:CEST
DTSTART:20240331T010000
END:DAYLIGHT
BEGIN:STANDARD
TZOFFSETFROM:+0200
TZOFFSETTO:+0100
TZNAME:CET
DTSTART:20241027T010000
END:STANDARD
END:VTIMEZONE
BEGIN:VEVENT
DTSTART;TZID=Europe/Zurich:20230814T170000
DTEND;TZID=Europe/Zurich:20230814T210000
DTSTAMP:20260423T103956
CREATED:20230124T091838Z
LAST-MODIFIED:20230124T091838Z
UID:532-1692032400-1692046800@www.hps-heerbrugg.ch
SUMMARY:Begrüssungsapéro HPV
DESCRIPTION:
URL:https://www.hps-heerbrugg.ch/agenda/begruessungsapero-hpv/
LOCATION:HPS Heerbrugg\, Römerstrasse 10\, Heerbrugg\, St. Gallen\, 9435\, Switzerland
CATEGORIES:Termine,Veranstaltungen
END:VEVENT
END:VCALENDAR