BEGIN:VCALENDAR
VERSION:2.0
PRODID:-//HPS - ECPv6.15.20//NONSGML v1.0//EN
CALSCALE:GREGORIAN
METHOD:PUBLISH
X-WR-CALNAME:HPS
X-ORIGINAL-URL:https://www.hps-heerbrugg.ch
X-WR-CALDESC:Veranstaltungen für HPS
REFRESH-INTERVAL;VALUE=DURATION:PT1H
X-Robots-Tag:noindex
X-PUBLISHED-TTL:PT1H
BEGIN:VTIMEZONE
TZID:Europe/Zurich
BEGIN:DAYLIGHT
TZOFFSETFROM:+0100
TZOFFSETTO:+0200
TZNAME:CEST
DTSTART:20220327T010000
END:DAYLIGHT
BEGIN:STANDARD
TZOFFSETFROM:+0200
TZOFFSETTO:+0100
TZNAME:CET
DTSTART:20221030T010000
END:STANDARD
BEGIN:DAYLIGHT
TZOFFSETFROM:+0100
TZOFFSETTO:+0200
TZNAME:CEST
DTSTART:20230326T010000
END:DAYLIGHT
BEGIN:STANDARD
TZOFFSETFROM:+0200
TZOFFSETTO:+0100
TZNAME:CET
DTSTART:20231029T010000
END:STANDARD
BEGIN:DAYLIGHT
TZOFFSETFROM:+0100
TZOFFSETTO:+0200
TZNAME:CEST
DTSTART:20240331T010000
END:DAYLIGHT
BEGIN:STANDARD
TZOFFSETFROM:+0200
TZOFFSETTO:+0100
TZNAME:CET
DTSTART:20241027T010000
END:STANDARD
END:VTIMEZONE
BEGIN:VEVENT
DTSTART;VALUE=DATE:20230518
DTEND;VALUE=DATE:20230522
DTSTAMP:20260424T021622
CREATED:20211216T101106Z
LAST-MODIFIED:20211216T101106Z
UID:395-1684368000-1684713599@www.hps-heerbrugg.ch
SUMMARY:Feiertagsbrücke Auffahrt
DESCRIPTION:Feiertagsbrücke Auffahrt Do 18. Mai 2023 – So 21. Mai 2023 
URL:https://www.hps-heerbrugg.ch/agenda/feiertagsbru%cc%88cke-auffahrt-2/
CATEGORIES:Agenda,Jahres- und Ferienplan
ATTACH;FMTTYPE=image/jpeg:https://www.hps-heerbrugg.ch/wp-content/uploads/2021/12/HPS_sommer_0557.jpg
END:VEVENT
END:VCALENDAR