BEGIN:VCALENDAR
VERSION:2.0
PRODID:-//HPS - ECPv6.15.20//NONSGML v1.0//EN
CALSCALE:GREGORIAN
METHOD:PUBLISH
X-ORIGINAL-URL:https://www.hps-heerbrugg.ch
X-WR-CALDESC:Veranstaltungen für HPS
REFRESH-INTERVAL;VALUE=DURATION:PT1H
X-Robots-Tag:noindex
X-PUBLISHED-TTL:PT1H
BEGIN:VTIMEZONE
TZID:Europe/Zurich
BEGIN:DAYLIGHT
TZOFFSETFROM:+0100
TZOFFSETTO:+0200
TZNAME:CEST
DTSTART:20210328T010000
END:DAYLIGHT
BEGIN:STANDARD
TZOFFSETFROM:+0200
TZOFFSETTO:+0100
TZNAME:CET
DTSTART:20211031T010000
END:STANDARD
BEGIN:DAYLIGHT
TZOFFSETFROM:+0100
TZOFFSETTO:+0200
TZNAME:CEST
DTSTART:20220327T010000
END:DAYLIGHT
BEGIN:STANDARD
TZOFFSETFROM:+0200
TZOFFSETTO:+0100
TZNAME:CET
DTSTART:20221030T010000
END:STANDARD
BEGIN:DAYLIGHT
TZOFFSETFROM:+0100
TZOFFSETTO:+0200
TZNAME:CEST
DTSTART:20230326T010000
END:DAYLIGHT
BEGIN:STANDARD
TZOFFSETFROM:+0200
TZOFFSETTO:+0100
TZNAME:CET
DTSTART:20231029T010000
END:STANDARD
BEGIN:DAYLIGHT
TZOFFSETFROM:+0100
TZOFFSETTO:+0200
TZNAME:CEST
DTSTART:20240331T010000
END:DAYLIGHT
BEGIN:STANDARD
TZOFFSETFROM:+0200
TZOFFSETTO:+0100
TZNAME:CET
DTSTART:20241027T010000
END:STANDARD
END:VTIMEZONE
BEGIN:VEVENT
DTSTART;VALUE=DATE:20221224
DTEND;VALUE=DATE:20230109
DTSTAMP:20260424T075858
CREATED:20211216T100718Z
LAST-MODIFIED:20211216T100718Z
UID:387-1671840000-1673222399@www.hps-heerbrugg.ch
SUMMARY:Weihnachtsferien 2022
DESCRIPTION:Weihnachtsferien Sa 24. Dez. 2022 – So 08. Jan. 2023 
URL:https://www.hps-heerbrugg.ch/agenda/weihnachtsferien-2022/
CATEGORIES:Agenda,Jahres- und Ferienplan
ATTACH;FMTTYPE=image/jpeg:https://www.hps-heerbrugg.ch/wp-content/uploads/2020/03/HPS_winter_9242.jpg
END:VEVENT
END:VCALENDAR